BEGIN:VCALENDAR
VERSION:2.0
PRODID:-//Loon Lake Indiana - ECPv6.15.17.1//NONSGML v1.0//EN
CALSCALE:GREGORIAN
METHOD:PUBLISH
X-ORIGINAL-URL:https://www.loonlakeindiana.org
X-WR-CALDESC:Events for Loon Lake Indiana
REFRESH-INTERVAL;VALUE=DURATION:PT1H
X-Robots-Tag:noindex
X-PUBLISHED-TTL:PT1H
BEGIN:VTIMEZONE
TZID:UTC
BEGIN:STANDARD
TZOFFSETFROM:+0000
TZOFFSETTO:+0000
TZNAME:UTC
DTSTART:20240101T000000
END:STANDARD
END:VTIMEZONE
BEGIN:VEVENT
DTSTART;VALUE=DATE:20250913
DTEND;VALUE=DATE:20250914
DTSTAMP:20260419T140842
CREATED:20241120T214154Z
LAST-MODIFIED:20241123T023107Z
UID:988-1757721600-1757807999@www.loonlakeindiana.org
SUMMARY:Final Can Pickup
DESCRIPTION:Can Pickup will be held the 2nd Saturday Each Month April-September:  April 12\, May 10\, June 14\, July 12\, August 9\, September 13. \n\n\n\n\nHave your cans bagged and securely tied by the curb by 9:00AM at the latest.  Crews will be around to collect them.
URL:https://www.loonlakeindiana.org/event/final-can-pickup-for-2025/
END:VEVENT
END:VCALENDAR