BEGIN:VCALENDAR
VERSION:2.0
PRODID:-//Loon Lake Indiana - ECPv6.15.17.1//NONSGML v1.0//EN
CALSCALE:GREGORIAN
METHOD:PUBLISH
X-WR-CALNAME:Loon Lake Indiana
X-ORIGINAL-URL:https://www.loonlakeindiana.org
X-WR-CALDESC:Events for Loon Lake Indiana
REFRESH-INTERVAL;VALUE=DURATION:PT1H
X-Robots-Tag:noindex
X-PUBLISHED-TTL:PT1H
BEGIN:VTIMEZONE
TZID:America/Indiana/Indianapolis
BEGIN:DAYLIGHT
TZOFFSETFROM:-0500
TZOFFSETTO:-0400
TZNAME:EDT
DTSTART:20240310T070000
END:DAYLIGHT
BEGIN:STANDARD
TZOFFSETFROM:-0400
TZOFFSETTO:-0500
TZNAME:EST
DTSTART:20241103T060000
END:STANDARD
BEGIN:DAYLIGHT
TZOFFSETFROM:-0500
TZOFFSETTO:-0400
TZNAME:EDT
DTSTART:20250309T070000
END:DAYLIGHT
BEGIN:STANDARD
TZOFFSETFROM:-0400
TZOFFSETTO:-0500
TZNAME:EST
DTSTART:20251102T060000
END:STANDARD
BEGIN:DAYLIGHT
TZOFFSETFROM:-0500
TZOFFSETTO:-0400
TZNAME:EDT
DTSTART:20260308T070000
END:DAYLIGHT
BEGIN:STANDARD
TZOFFSETFROM:-0400
TZOFFSETTO:-0500
TZNAME:EST
DTSTART:20261101T060000
END:STANDARD
END:VTIMEZONE
BEGIN:VTIMEZONE
TZID:UTC
BEGIN:STANDARD
TZOFFSETFROM:+0000
TZOFFSETTO:+0000
TZNAME:UTC
DTSTART:20240101T000000
END:STANDARD
END:VTIMEZONE
BEGIN:VEVENT
DTSTART;TZID=America/Indiana/Indianapolis:20250607T080000
DTEND;TZID=America/Indiana/Indianapolis:20250607T110000
DTSTAMP:20260419T223916
CREATED:20231229T155832Z
LAST-MODIFIED:20241120T220000Z
UID:834-1749283200-1749294000@www.loonlakeindiana.org
SUMMARY:Kids Fishing Derby
DESCRIPTION:Registration is 8-8:30. \nLocation – Loon Lisle Nature Reserve. \nKids 2 to 16 Years old. \nFree fishing Weekend.  \nKids should arrive at the Pavillion to register and receive a goody bag for returning to their favorite fishing hole.  Save all the fish that is caught for the prizes are awarded based on the total weight of the fish caught.  All fishing must be at Loon Lake! \nReturn to the Pavillion no later than 11am and get your catch weighed.  If you do not wish to keep your catch they will be placed in an aerator and returned to the lake. \nGrab a hot dog\, chips and a drink while waiting for the fish totals to be tallied.  Kids eat free and a free will offering is collected for the adults. \nTrophies will be handed out to the top three of each age group.  Every child gets a prize! \nTeaching the next generation to fish is the ultimate prize! Hope to see you all there!
URL:https://www.loonlakeindiana.org/event/kids-fishing-derby-4/
END:VEVENT
BEGIN:VEVENT
DTSTART;VALUE=DATE:20250614
DTEND;VALUE=DATE:20250615
DTSTAMP:20260419T223916
CREATED:20241120T213856Z
LAST-MODIFIED:20241123T023012Z
UID:982-1749859200-1749945599@www.loonlakeindiana.org
SUMMARY:Can Pickup
DESCRIPTION:Can Pickup will be held the 2nd Saturday Each Month April-September:  April 12\, May 10\, June 14\, July 12\, August 9\, September 13. \n\n\n\n\nHave your cans bagged and securely tied by the curb by 9:00AM at the latest.  Crews will be around to collect them.
URL:https://www.loonlakeindiana.org/event/can-pickup-8/
END:VEVENT
BEGIN:VEVENT
DTSTART;VALUE=DATE:20250620
DTEND;VALUE=DATE:20250622
DTSTAMP:20260419T223916
CREATED:20231229T161222Z
LAST-MODIFIED:20241121T035256Z
UID:840-1750377600-1750550399@www.loonlakeindiana.org
SUMMARY:Association Garage Sale
DESCRIPTION:The Loon Lake Association Garage Sale will be both days from 8:00AM-4:00PM. \nStart organizing your unwanted or unneeded stuff now to add a few bucks to your summer spending money.  Feel free to open early or close late\, the decision is yours. \nIf you’re not having a sale of your own\, be sure to get out and support your fellow neighbors’ sales.  There will be lots of treasures to find!
URL:https://www.loonlakeindiana.org/event/association-garage-sale/
END:VEVENT
END:VCALENDAR