BEGIN:VCALENDAR
VERSION:2.0
PRODID:-//Loon Lake Indiana - ECPv6.15.17.1//NONSGML v1.0//EN
CALSCALE:GREGORIAN
METHOD:PUBLISH
X-WR-CALNAME:Loon Lake Indiana
X-ORIGINAL-URL:https://www.loonlakeindiana.org
X-WR-CALDESC:Events for Loon Lake Indiana
REFRESH-INTERVAL;VALUE=DURATION:PT1H
X-Robots-Tag:noindex
X-PUBLISHED-TTL:PT1H
BEGIN:VTIMEZONE
TZID:UTC
BEGIN:STANDARD
TZOFFSETFROM:+0000
TZOFFSETTO:+0000
TZNAME:UTC
DTSTART:20200101T000000
END:STANDARD
END:VTIMEZONE
BEGIN:VEVENT
DTSTART;TZID=UTC:20210410T090000
DTEND;TZID=UTC:20210410T090000
DTSTAMP:20260420T031457
CREATED:20210310T011332Z
LAST-MODIFIED:20210310T040514Z
UID:332-1618045200-1618045200@www.loonlakeindiana.org
SUMMARY:Can Pickup (First)
DESCRIPTION:The second Saturday of each month this summer April- September has been designated for aluminum can pick-up for recycling. \nThe first can pick up will be on Saturday\, April 10th!  Have your cans bagged and securely tied by the curb by 9:00AM at the latest.  Crews will be around to collect them. \nThis has been a successful way to raise money for our annual fireworks show over the Independence Day weekend.  We need your participation so that we are able to continue this popular event…fireworks are not cheap!  Thank you for your donations! \nUnfortunately\, we’ve had can poachers in the past\, so we ask that you try to put the cans out Saturday morning and not Friday night\, if possible.
URL:https://www.loonlakeindiana.org/event/can-pickup-first/
END:VEVENT
END:VCALENDAR