BEGIN:VCALENDAR
VERSION:2.0
PRODID:-//Loon Lake Indiana - ECPv6.15.17.1//NONSGML v1.0//EN
CALSCALE:GREGORIAN
METHOD:PUBLISH
X-WR-CALNAME:Loon Lake Indiana
X-ORIGINAL-URL:https://www.loonlakeindiana.org
X-WR-CALDESC:Events for Loon Lake Indiana
REFRESH-INTERVAL;VALUE=DURATION:PT1H
X-Robots-Tag:noindex
X-PUBLISHED-TTL:PT1H
BEGIN:VTIMEZONE
TZID:UTC
BEGIN:STANDARD
TZOFFSETFROM:+0000
TZOFFSETTO:+0000
TZNAME:UTC
DTSTART:20240101T000000
END:STANDARD
END:VTIMEZONE
BEGIN:VEVENT
DTSTART;TZID=UTC:20250517T093000
DTEND;TZID=UTC:20250517T103000
DTSTAMP:20260419T173522
CREATED:20231229T155036Z
LAST-MODIFIED:20241120T215739Z
UID:830-1747474200-1747477800@www.loonlakeindiana.org
SUMMARY:Spring Association Meeting
DESCRIPTION:Gather to hear news of what’s happening and share your ideas.  The meeting will tentatively be held at the Treat/Newman/Milestone Barn on Arnold Road.  Doors open at 9:00 am\, meeting called to order at 9:30. \nOur 2024 Raffle will be held at the meeting!  Raffle tickets will be mailed with your Spring Loon’s Call Newsletter in April but will also be available at the spring meeting. If you cannot attend the meeting please mail your raffle tickets in with your dues. \nPlease bring your own chairs.\nWe hope to see you there!
URL:https://www.loonlakeindiana.org/event/spring-association-meeting/
END:VEVENT
END:VCALENDAR